BEGIN:VCALENDAR
VERSION:2.0
PRODID:-//Georgie Aué - ECPv4.9.7//NONSGML v1.0//EN
CALSCALE:GREGORIAN
METHOD:PUBLISH
X-WR-CALNAME:Georgie Aué
X-ORIGINAL-URL:http://georgieaue.com.au
X-WR-CALDESC:Events for Georgie Aué
BEGIN:VTIMEZONE
TZID:"UTC"
BEGIN:STANDARD
TZOFFSETFROM:+0000
TZOFFSETTO:+0000
TZNAME:UTC
DTSTART:20210101T000000
END:STANDARD
END:VTIMEZONE
BEGIN:VEVENT
DTSTART;TZID="UTC":20210225T190000
DTEND;TZID="UTC":20210225T213000
DTSTAMP:20210224T023909
CREATED:20200209T092625Z
LAST-MODIFIED:20200513T084955Z
UID:4307-1614279600-1614288600@georgieaue.com.au
SUMMARY:NEW DATE Georgie Aué - Brazilian jazz & blues PERTH
DESCRIPTION:Georgie Aué is an Australian piano player\, vocalist and songwriter. Her music is a melting pot of musical styles\, including jazz and blues with a focus in Brazilian jazz. This performance will feature songs from Georgie’s latest album Little Bird\, her debut album Washington Road\, as well as favourite Brazilian tunes. She will also be debuting some brand new music at this special show. \nGeorgie has been influenced by various artists including Ahmad Jamal\, Elis Regina\, The Beatles\, Eliane Elias\, AC Jobim and Norah Jones. \nGeorgie performs regularly in Melbourne\, Perth\, Sydney and Adelaide delighting audiences with her original music. She is also an avid lover of Brazilian Jazz and this performance follows her debut season at Adelaide Fringe 2020 of ‘Come to Brazil’. \n‘…there was plenty to admire in the phrasing of Aue’s vocals\, her light touch at the keyboard…a sterling performance’. (S Evans – Independent Weekly) \nFeaturing a fantastic band comprised of: \nGeorgie Aué – vocals/piano\nJeremy Thomson – guitar\nZac Grafton – bass\nDaniel Susnjar – drums \n
URL:http://georgieaue.com.au/gig/georgie-aue-perth/
LOCATION:The Ellington\, 191 Beaufort St\, Perth\, Western Australia\, 6000\, Australia
ATTACH;FMTTYPE=image/jpeg:http://georgieaue.com.au/wp-content/uploads/2019/06/IMG_73351-e1562768558369.jpg
ORGANIZER;CN="The%20Ellington":MAILTO:info@ellingtonjazz.com.au
END:VEVENT
END:VCALENDAR