BEGIN:VCALENDAR
VERSION:2.0
PRODID:-//Georgie Aué - ECPv4.9.7//NONSGML v1.0//EN
CALSCALE:GREGORIAN
METHOD:PUBLISH
X-WR-CALNAME:Georgie Aué
X-ORIGINAL-URL:http://georgieaue.com.au
X-WR-CALDESC:Events for Georgie Aué
BEGIN:VTIMEZONE
TZID:"UTC"
BEGIN:STANDARD
TZOFFSETFROM:+0000
TZOFFSETTO:+0000
TZNAME:UTC
DTSTART:20210101T000000
END:STANDARD
END:VTIMEZONE
BEGIN:VEVENT
DTSTART;TZID="UTC":20210110T170000
DTEND;TZID="UTC":20210110T200000
DTSTAMP:20210224T025701
CREATED:20201211T055247Z
LAST-MODIFIED:20201211T055247Z
UID:5921-1610298000-1610308800@georgieaue.com.au
SUMMARY:A Norah Jones Tribute - Lyric's Underground
DESCRIPTION:Jazz vocalist\, pianist and songwriter\, Georgie Aué\, presents a tribute to one of the leading artists of today – Norah Jones.\nCharming audiences with a soulful\, evocative and bluesy performance\, A Norah Jones Tribute is a celebration of the artistry of Norah Jones who has cemented her place as a songwriter of the highest calibre in blues\, jazz and country genres. \nGeorgie debuted ‘A Norah Jones Tribute’ at the Adelaide Fringe Festival 2010 to sell-out crowds. Since then she has performed it regularly to sold-out audiences in Melbourne and Perth. In 2020 the show returned to the Adelaide Fringe 2020 resulting in outstanding reviews and enraptured audiences. \nHear Georgie Aué and her band perform her famous songs like ‘Don’t Know Why’ and ‘Come Away With Me’\, that catapulted to the top of the charts back in the mid-2000s\, and also be treated to some of Norah’s more recent work. \nFeaturing:\nGeorgie Aué – vocals/piano\nJeremy Thomson – guitar\nZac Grafton – double bass\nDaniel Susnjar – drums \n“Elegant costuming and a beautiful setting wowed the audience\, but it was the sterling performance of Georgie Aue which made the night so unforgettable. The band played with ease and you can’t help but admire Georgie Aue’s beautiful voice\, complemented by her skills as a pianist.” – 5 stars\, What’s On In Adelaide \n“Georgie is able to capture the essence of these songs and has made them both a tribute and a demonstration of her own talent. An elegant\, mellow\, soulful night of fine songs and excellent musicianship.” – 4 stars\, The Clothesline \n\n\n	Related\n
URL:http://georgieaue.com.au/gig/a-norah-jones-tribute-lyrics-underground/
LOCATION:Lyrics’s Underground\, 22 Lyric Lane\, Maylands\, Western Australia\, 6051\, Australia
ATTACH;FMTTYPE=image/jpeg:http://georgieaue.com.au/wp-content/uploads/2019/05/Georgie-piano-400x250.jpg
END:VEVENT
END:VCALENDAR